BEGIN:VCALENDAR
VERSION:2.0
PRODID:icalendar-ruby
CALSCALE:GREGORIAN
BEGIN:VEVENT
DTSTAMP:20210119T155340Z
UID:3dbc7164-85da-4e2d-9af4-a29b754fc812
DTSTART;VALUE=DATE:20210213
DESCRIPTION:Property ID# 499726\, Locatoin: On Site (Unless Sold Prior)\, T
 ime: 1:30PM
SUMMARY:Auction for 157 Metcalfe Road
END:VEVENT
END:VCALENDAR
