BEGIN:VCALENDAR
VERSION:2.0
PRODID:icalendar-ruby
CALSCALE:GREGORIAN
BEGIN:VEVENT
DTSTAMP:20210119T155354Z
UID:825e0b59-1bd0-4338-8b94-7e3616ab3572
DTSTART;VALUE=DATE:20210217
DESCRIPTION:Property ID# 499725\, Locatoin: 322 Main Road\, Kumeu\, Aucklan
 d 0810\, Time: 4:30PM
SUMMARY:Auction for 464 Scenic Drive
END:VEVENT
END:VCALENDAR
