BEGIN:VCALENDAR
VERSION:2.0
PRODID:icalendar-ruby
CALSCALE:GREGORIAN
BEGIN:VEVENT
DTSTAMP:20210119T155356Z
UID:8a8539c4-4071-4106-a2a9-153fb537e5d2
DTSTART;VALUE=DATE:20201216
DESCRIPTION:Property ID# 495771\, Time: 4:00PM
SUMMARY:Auction for 
END:VEVENT
END:VCALENDAR
