BEGIN:VCALENDAR
VERSION:2.0
PRODID:icalendar-ruby
CALSCALE:GREGORIAN
BEGIN:VEVENT
DTSTAMP:20210119T155341Z
UID:662d619b-c3be-4fd9-ab77-079ac6cf339e
DTSTART;VALUE=DATE:20201114
DESCRIPTION:Property ID# 493285\, Locatoin: On Site\, Time: 10:00AM
SUMMARY:Auction for 
END:VEVENT
END:VCALENDAR
