BEGIN:VCALENDAR
VERSION:2.0
PRODID:icalendar-ruby
CALSCALE:GREGORIAN
BEGIN:VEVENT
DTSTAMP:20210119T155342Z
UID:4a2d3504-b02b-4024-b511-9899db3a5d1d
DTSTART;VALUE=DATE:20201021
DESCRIPTION:Property ID# 492173\, Locatoin: On Site \, Time: 7:30PM
SUMMARY:Auction for 
END:VEVENT
END:VCALENDAR
