BEGIN:VCALENDAR
VERSION:2.0
PRODID:icalendar-ruby
CALSCALE:GREGORIAN
BEGIN:VEVENT
DTSTAMP:20210119T155344Z
UID:187a48d7-932b-431d-b4ff-1ea8d72c2436
DTSTART;VALUE=DATE:20201005
DESCRIPTION:Property ID# 490592\, Locatoin: On Site \, Time: 6:30PM
SUMMARY:Auction for 
END:VEVENT
END:VCALENDAR
