BEGIN:VCALENDAR
VERSION:2.0
PRODID:icalendar-ruby
CALSCALE:GREGORIAN
BEGIN:VEVENT
DTSTAMP:20210119T155345Z
UID:4b831f29-4b49-4503-b076-f28809181170
DTSTART;VALUE=DATE:20200808
DESCRIPTION:Property ID# 484280\, Locatoin: On Site (Unless Sold Prior)\, T
 ime: 11:00AM
SUMMARY:Auction for 
END:VEVENT
END:VCALENDAR
