BEGIN:VCALENDAR
VERSION:2.0
PRODID:icalendar-ruby
CALSCALE:GREGORIAN
BEGIN:VEVENT
DTSTAMP:20210119T155347Z
UID:6f5d1e9b-2746-4a69-80c4-2832c42526ba
DTSTART;VALUE=DATE:20200801
DESCRIPTION:Property ID# 484276\, Locatoin: On Site (Unless Sold Prior)\, T
 ime: 2:00PM
SUMMARY:Auction for 
END:VEVENT
END:VCALENDAR
