BEGIN:VCALENDAR
VERSION:2.0
PRODID:icalendar-ruby
CALSCALE:GREGORIAN
BEGIN:VEVENT
DTSTAMP:20210119T155348Z
UID:b9485559-2ab9-458d-8691-5c8147f629d9
DTSTART;VALUE=DATE:20200725
DESCRIPTION:Property ID# 483823\, Locatoin: On Site (Unless Sold Prior)\, T
 ime: 12:00PM
SUMMARY:Auction for 
END:VEVENT
END:VCALENDAR
