BEGIN:VCALENDAR
VERSION:2.0
PRODID:icalendar-ruby
CALSCALE:GREGORIAN
BEGIN:VEVENT
DTSTAMP:20210119T155407Z
UID:66abed85-2d56-4976-8770-1db0cfed427a
DTSTART;VALUE=DATE:20200723
DESCRIPTION:Property ID# 483822\, Time: 5:00PM
SUMMARY:Auction for 
END:VEVENT
END:VCALENDAR
