BEGIN:VCALENDAR
VERSION:2.0
PRODID:icalendar-ruby
CALSCALE:GREGORIAN
BEGIN:VEVENT
DTSTAMP:20210119T155408Z
UID:78b52dc4-4f84-403e-b34a-702226bb88b8
DTSTART;VALUE=DATE:20200704
DESCRIPTION:Property ID# 477549\, Locatoin: Onsite\, Time: 4:15PM
SUMMARY:Auction for 
END:VEVENT
END:VCALENDAR
