BEGIN:VCALENDAR
VERSION:2.0
PRODID:icalendar-ruby
CALSCALE:GREGORIAN
BEGIN:VEVENT
DTSTAMP:20210119T155350Z
UID:5e9be98f-2afa-4278-a16b-ab28c8060124
DTSTART;VALUE=DATE:20200321
DESCRIPTION:Property ID# 474072\, Locatoin: On Site (Unless Sold Prior)\, T
 ime: 12:00PM
SUMMARY:Auction for 
END:VEVENT
END:VCALENDAR
