BEGIN:VCALENDAR
VERSION:2.0
PRODID:icalendar-ruby
CALSCALE:GREGORIAN
BEGIN:VEVENT
DTSTAMP:20210119T155351Z
UID:b1390a84-fadc-4160-8258-8aa9ba2293be
DTSTART;VALUE=DATE:20200310
DESCRIPTION:Property ID# 473215\, Locatoin: On Site \, Time: 6:30PM
SUMMARY:Auction for 
END:VEVENT
END:VCALENDAR
