BEGIN:VCALENDAR
VERSION:2.0
PRODID:icalendar-ruby
CALSCALE:GREGORIAN
BEGIN:VEVENT
DTSTAMP:20210119T155353Z
UID:757bcb54-0bb3-432c-b452-acc0e0b2569a
DTSTART;VALUE=DATE:20200220
DESCRIPTION:Property ID# 470701\, Locatoin: On Site \, Time: 5:30PM
SUMMARY:Auction for 
END:VEVENT
END:VCALENDAR
